BEGIN:VCALENDAR
VERSION:2.0
PRODID:-//SVKV - ECPv6.15.20//NONSGML v1.0//EN
CALSCALE:GREGORIAN
METHOD:PUBLISH
X-WR-CALNAME:SVKV
X-ORIGINAL-URL:https://www.svkvrenkum.nl
X-WR-CALDESC:Events for SVKV
REFRESH-INTERVAL;VALUE=DURATION:PT1H
X-Robots-Tag:noindex
X-PUBLISHED-TTL:PT1H
BEGIN:VTIMEZONE
TZID:Europe/Amsterdam
BEGIN:DAYLIGHT
TZOFFSETFROM:+0100
TZOFFSETTO:+0200
TZNAME:CEST
DTSTART:20240331T010000
END:DAYLIGHT
BEGIN:STANDARD
TZOFFSETFROM:+0200
TZOFFSETTO:+0100
TZNAME:CET
DTSTART:20241027T010000
END:STANDARD
BEGIN:DAYLIGHT
TZOFFSETFROM:+0100
TZOFFSETTO:+0200
TZNAME:CEST
DTSTART:20250330T010000
END:DAYLIGHT
BEGIN:STANDARD
TZOFFSETFROM:+0200
TZOFFSETTO:+0100
TZNAME:CET
DTSTART:20251026T010000
END:STANDARD
BEGIN:DAYLIGHT
TZOFFSETFROM:+0100
TZOFFSETTO:+0200
TZNAME:CEST
DTSTART:20260329T010000
END:DAYLIGHT
BEGIN:STANDARD
TZOFFSETFROM:+0200
TZOFFSETTO:+0100
TZNAME:CET
DTSTART:20261025T010000
END:STANDARD
END:VTIMEZONE
BEGIN:VEVENT
DTSTART;VALUE=DATE:20251213
DTEND;VALUE=DATE:20251214
DTSTAMP:20260422T021335
CREATED:20251023T191004Z
LAST-MODIFIED:20251023T191004Z
UID:3314-1765584000-1765670399@www.svkvrenkum.nl
SUMMARY:Wedstrijd turnen
DESCRIPTION:
URL:https://www.svkvrenkum.nl/event/wedstrijd-turnen-3/
END:VEVENT
BEGIN:VEVENT
DTSTART;VALUE=DATE:20251206
DTEND;VALUE=DATE:20251207
DTSTAMP:20260422T021335
CREATED:20251023T190515Z
LAST-MODIFIED:20251023T190515Z
UID:3304-1764979200-1765065599@www.svkvrenkum.nl
SUMMARY:Wedstrijd turnen
DESCRIPTION:
URL:https://www.svkvrenkum.nl/event/wedstrijd-turnen/
END:VEVENT
BEGIN:VEVENT
DTSTART;TZID=Europe/Amsterdam:20250925T080000
DTEND;TZID=Europe/Amsterdam:20250925T170000
DTSTAMP:20260422T021335
CREATED:20250810T130350Z
LAST-MODIFIED:20250810T131659Z
UID:3212-1758787200-1758819600@www.svkvrenkum.nl
SUMMARY:SVKV Kamp 26 tm 28 september
DESCRIPTION:
URL:https://www.svkvrenkum.nl/event/svkv-kamp-26-tm-28-september/
END:VEVENT
BEGIN:VEVENT
DTSTART;TZID=Europe/Amsterdam:20250818T080000
DTEND;TZID=Europe/Amsterdam:20250818T170000
DTSTAMP:20260422T021335
CREATED:20250810T125827Z
LAST-MODIFIED:20250810T125827Z
UID:3208-1755504000-1755536400@www.svkvrenkum.nl
SUMMARY:18 auguatus - Start seizoen 2025-2026
DESCRIPTION:Op maandag 18 augustus starten onze lessen weer!
URL:https://www.svkvrenkum.nl/event/18-auguatus-start-seizoen-2025-2026/
END:VEVENT
BEGIN:VEVENT
DTSTART;TZID=Europe/Amsterdam:20250615T113000
DTEND;TZID=Europe/Amsterdam:20250615T183000
DTSTAMP:20260422T021335
CREATED:20250522T090621Z
LAST-MODIFIED:20250522T090621Z
UID:3179-1749987000-1750012200@www.svkvrenkum.nl
SUMMARY:Eindshow Dans
DESCRIPTION:
URL:https://www.svkvrenkum.nl/event/eindshow-dans/
END:VEVENT
BEGIN:VEVENT
DTSTART;VALUE=DATE:20250614
DTEND;VALUE=DATE:20250615
DTSTAMP:20260422T021335
CREATED:20250213T092829Z
LAST-MODIFIED:20250213T092829Z
UID:3107-1749859200-1749945599@www.svkvrenkum.nl
SUMMARY:Toestelfinale Bovenbouw turnen
DESCRIPTION:
URL:https://www.svkvrenkum.nl/event/toestelfinale-bovenbouw-turnen/
END:VEVENT
BEGIN:VEVENT
DTSTART;VALUE=DATE:20250524
DTEND;VALUE=DATE:20250525
DTSTAMP:20260422T021335
CREATED:20250213T084023Z
LAST-MODIFIED:20250213T084023Z
UID:3091-1748044800-1748131199@www.svkvrenkum.nl
SUMMARY:Jazzdancedag
DESCRIPTION:
URL:https://www.svkvrenkum.nl/event/jazzdancedag/
END:VEVENT
BEGIN:VEVENT
DTSTART;VALUE=DATE:20250518
DTEND;VALUE=DATE:20250519
DTSTAMP:20260422T021335
CREATED:20250213T092754Z
LAST-MODIFIED:20250213T092754Z
UID:3105-1747526400-1747612799@www.svkvrenkum.nl
SUMMARY:Meetmoment 3
DESCRIPTION:
URL:https://www.svkvrenkum.nl/event/meetmoment-3/
END:VEVENT
BEGIN:VEVENT
DTSTART;VALUE=DATE:20250517
DTEND;VALUE=DATE:20250518
DTSTAMP:20260422T021335
CREATED:20250213T092522Z
LAST-MODIFIED:20250213T092522Z
UID:3103-1747440000-1747526399@www.svkvrenkum.nl
SUMMARY:Meerkampfinale bovenbouw supplement E+F
DESCRIPTION:
URL:https://www.svkvrenkum.nl/event/meerkampfinale-bovenbouw-supplement-ef/
END:VEVENT
BEGIN:VEVENT
DTSTART;VALUE=DATE:20250511
DTEND;VALUE=DATE:20250512
DTSTAMP:20260422T021335
CREATED:20250213T083947Z
LAST-MODIFIED:20250213T083947Z
UID:3089-1746921600-1747007999@www.svkvrenkum.nl
SUMMARY:Danswedstrijden
DESCRIPTION:
URL:https://www.svkvrenkum.nl/event/danswedstrijden-2/
END:VEVENT
BEGIN:VEVENT
DTSTART;VALUE=DATE:20250510
DTEND;VALUE=DATE:20250511
DTSTAMP:20260422T021335
CREATED:20250213T092342Z
LAST-MODIFIED:20250213T092342Z
UID:3101-1746835200-1746921599@www.svkvrenkum.nl
SUMMARY:Meerkampfinale middenbouw 5+6
DESCRIPTION:
URL:https://www.svkvrenkum.nl/event/meerkampfinale-middenbouw-56/
END:VEVENT
BEGIN:VEVENT
DTSTART;VALUE=DATE:20250406
DTEND;VALUE=DATE:20250407
DTSTAMP:20260422T021335
CREATED:20250213T083125Z
LAST-MODIFIED:20250213T083125Z
UID:3087-1743897600-1743983999@www.svkvrenkum.nl
SUMMARY:Danswedstrijden
DESCRIPTION:
URL:https://www.svkvrenkum.nl/event/danswedstrijden/
END:VEVENT
BEGIN:VEVENT
DTSTART;VALUE=DATE:20250323
DTEND;VALUE=DATE:20250324
DTSTAMP:20260422T021335
CREATED:20250213T084053Z
LAST-MODIFIED:20250213T084053Z
UID:3093-1742688000-1742774399@www.svkvrenkum.nl
SUMMARY:Shell we Dance Barneveld
DESCRIPTION:
URL:https://www.svkvrenkum.nl/event/shell-we-dance-barneveld/
END:VEVENT
BEGIN:VEVENT
DTSTART;TZID=Europe/Amsterdam:20250316T140000
DTEND;TZID=Europe/Amsterdam:20250316T170000
DTSTAMP:20260422T021335
CREATED:20250213T073033Z
LAST-MODIFIED:20250213T074319Z
UID:3084-1742133600-1742144400@www.svkvrenkum.nl
SUMMARY:Sponsordemo Editie 8
DESCRIPTION:Sponsordemo Editie 8 staat weer op de stoep!\nOp zondag 16 maart opent SVKV om 14.00 uur de deuren van Doelum en heet u allen van harte welkom om te komen kijken naar uw kind tijdens onze heuse sponsordemo.\nUiteraard zijn broertjes\, zusjes opa’s oma’s ooms en tantes ook van harte welkom! Noteer deze datum alvast in uw agenda.
URL:https://www.svkvrenkum.nl/event/sponsordemo-editie-8/
LOCATION:MFC Doelum
END:VEVENT
BEGIN:VEVENT
DTSTART;VALUE=DATE:20250315
DTEND;VALUE=DATE:20250316
DTSTAMP:20260422T021335
CREATED:20250213T092232Z
LAST-MODIFIED:20250213T092232Z
UID:3099-1741996800-1742083199@www.svkvrenkum.nl
SUMMARY:2e plaatsingswedstrijd middenbouw 5+6
DESCRIPTION:
URL:https://www.svkvrenkum.nl/event/2e-plaatsingswedstrijd-middenbouw-56/
END:VEVENT
BEGIN:VEVENT
DTSTART;VALUE=DATE:20250216
DTEND;VALUE=DATE:20250217
DTSTAMP:20260422T021335
CREATED:20250213T092144Z
LAST-MODIFIED:20250213T092144Z
UID:3097-1739664000-1739750399@www.svkvrenkum.nl
SUMMARY:Meetmoment 2 turnen
DESCRIPTION:
URL:https://www.svkvrenkum.nl/event/meetmoment-2-turnen/
END:VEVENT
BEGIN:VEVENT
DTSTART;VALUE=DATE:20250215
DTEND;VALUE=DATE:20250216
DTSTAMP:20260422T021335
CREATED:20250213T092114Z
LAST-MODIFIED:20250213T092114Z
UID:3095-1739577600-1739663999@www.svkvrenkum.nl
SUMMARY:Plaatsingswedstrijd bovenbouw supplement F
DESCRIPTION:
URL:https://www.svkvrenkum.nl/event/plaatsingswedstrijd-bovenbouw-supplement-f/
END:VEVENT
END:VCALENDAR